BEGIN:VCALENDAR
VERSION:2.0
PRODID:icalendar-ruby
CALSCALE:GREGORIAN
METHOD:PUBLISH
BEGIN:VEVENT
DTSTAMP:20260420T211014Z
UID:5-1198793@woodstocknbanglican.ca
DTSTART:20230205T230000Z
DTEND:20230206T000000Z
CLASS:PUBLIC
CREATED:20260420T180728
DESCRIPTION:We regret that recording and livestreaming of Sunday services h
 as been suspended until futher notice.\nWe would love for you to join us i
 n person each Sunday at 10:30 am!
LAST-MODIFIED:20260420T180728
LOCATION:St. Luke's Church
SUMMARY:On-Line Worship Resumed 
URL;VALUE=URI:https://www.woodstocknbanglican.ca/events/on-line-worship-res
 umed/2023-02-05
ATTACH;FILENAME="Camera for on-line worship June 21, 2020.JPG";FMTTYPE=imag
 e/jpeg:https://dq5pwpg1q8ru0.cloudfront.net/2020/06/22/03/51/39/43bf8c7d-2
 1dd-4560-8590-a22e2772a549/Camera%20for%20on-line%20worship%20June%2021,%2
 02020.JPG
END:VEVENT
END:VCALENDAR
